BEGIN:VCALENDAR
VERSION:2.0
PRODID:-//Salon de Billard Heriot de Drummondville - ECPv4.9.11//NONSGML v1.0//EN
CALSCALE:GREGORIAN
METHOD:PUBLISH
X-WR-CALNAME:Salon de Billard Heriot de Drummondville
X-ORIGINAL-URL:https://billardheriot.com
X-WR-CALDESC:Évènements pour Salon de Billard Heriot de Drummondville
BEGIN:VTIMEZONE
TZID:Europe/Paris
BEGIN:DAYLIGHT
TZOFFSETFROM:+0100
TZOFFSETTO:+0200
TZNAME:CEST
DTSTART:20250330T010000
END:DAYLIGHT
BEGIN:STANDARD
TZOFFSETFROM:+0200
TZOFFSETTO:+0100
TZNAME:CET
DTSTART:20251026T010000
END:STANDARD
END:VTIMEZONE
BEGIN:VEVENT
DTSTART;TZID=Europe/Paris:20250412T100000
DTEND;TZID=Europe/Paris:20250412T210000
DTSTAMP:20260420T165406
CREATED:20230831T132326Z
LAST-MODIFIED:20250404T141114Z
UID:7314-1744452000-1744491600@billardheriot.com
SUMMARY:Tournoi FQSB A
DESCRIPTION:
URL:https://billardheriot.com/event/tournoi-fqsb-finale-a/
CATEGORIES:Tournois de billard
ATTACH;FMTTYPE=image/jpeg:https://billardheriot.com/wp-content/uploads/2020/08/fqsb-heriot.jpg
END:VEVENT
END:VCALENDAR