BEGIN:VCALENDAR
VERSION:2.0
PRODID:-//Salon de Billard Heriot de Drummondville - ECPv4.9.11//NONSGML v1.0//EN
CALSCALE:GREGORIAN
METHOD:PUBLISH
X-WR-CALNAME:Salon de Billard Heriot de Drummondville
X-ORIGINAL-URL:https://billardheriot.com
X-WR-CALDESC:Évènements pour Salon de Billard Heriot de Drummondville
BEGIN:VTIMEZONE
TZID:Europe/Paris
BEGIN:DAYLIGHT
TZOFFSETFROM:+0100
TZOFFSETTO:+0200
TZNAME:CEST
DTSTART:20230326T010000
END:DAYLIGHT
BEGIN:STANDARD
TZOFFSETFROM:+0200
TZOFFSETTO:+0100
TZNAME:CET
DTSTART:20231029T010000
END:STANDARD
END:VTIMEZONE
BEGIN:VEVENT
DTSTART;TZID=Europe/Paris:20230318T100000
DTEND;TZID=Europe/Paris:20230318T203000
DTSTAMP:20260420T183024
CREATED:20200827T171236Z
LAST-MODIFIED:20221010T215010Z
UID:5987-1679133600-1679171400@billardheriot.com
SUMMARY:Tournoi FQSB Semi-Pro
DESCRIPTION:
URL:https://billardheriot.com/event/tournoi-fqsb-semi-pro/
CATEGORIES:Tournois de billard
ATTACH;FMTTYPE=image/jpeg:https://billardheriot.com/wp-content/uploads/2020/08/fqsb-heriot.jpg
END:VEVENT
END:VCALENDAR