BEGIN:VCALENDAR
VERSION:2.0
PRODID:-//Salon de Billard Heriot de Drummondville - ECPv4.9.11//NONSGML v1.0//EN
CALSCALE:GREGORIAN
METHOD:PUBLISH
X-WR-CALNAME:Salon de Billard Heriot de Drummondville
X-ORIGINAL-URL:https://billardheriot.com
X-WR-CALDESC:Évènements pour Salon de Billard Heriot de Drummondville
BEGIN:VTIMEZONE
TZID:Europe/Paris
BEGIN:DAYLIGHT
TZOFFSETFROM:+0100
TZOFFSETTO:+0200
TZNAME:CEST
DTSTART:20220327T010000
END:DAYLIGHT
BEGIN:STANDARD
TZOFFSETFROM:+0200
TZOFFSETTO:+0100
TZNAME:CET
DTSTART:20221030T010000
END:STANDARD
END:VTIMEZONE
BEGIN:VEVENT
DTSTART;TZID=Europe/Paris:20221211T100000
DTEND;TZID=Europe/Paris:20221211T210000
DTSTAMP:20260421T140309
CREATED:20200827T171921Z
LAST-MODIFIED:20221016T002518Z
UID:5997-1670752800-1670792400@billardheriot.com
SUMMARY:Tournoi FQSB 1700 et -
DESCRIPTION:
URL:https://billardheriot.com/event/tournoi-fqsb-1700-et/
CATEGORIES:Tournois de billard
ATTACH;FMTTYPE=image/jpeg:https://billardheriot.com/wp-content/uploads/2020/08/fqsb-heriot.jpg
END:VEVENT
END:VCALENDAR